BEGIN:VCALENDAR
VERSION:2.0
PRODID:-//Friends of McConnell Springs - ECPv6.15.20//NONSGML v1.0//EN
CALSCALE:GREGORIAN
METHOD:PUBLISH
X-ORIGINAL-URL:https://mcconnellsprings.org
X-WR-CALDESC:Events for Friends of McConnell Springs
REFRESH-INTERVAL;VALUE=DURATION:PT1H
X-Robots-Tag:noindex
X-PUBLISHED-TTL:PT1H
BEGIN:VTIMEZONE
TZID:America/New_York
BEGIN:DAYLIGHT
TZOFFSETFROM:-0500
TZOFFSETTO:-0400
TZNAME:EDT
DTSTART:20240310T070000
END:DAYLIGHT
BEGIN:STANDARD
TZOFFSETFROM:-0400
TZOFFSETTO:-0500
TZNAME:EST
DTSTART:20241103T060000
END:STANDARD
BEGIN:DAYLIGHT
TZOFFSETFROM:-0500
TZOFFSETTO:-0400
TZNAME:EDT
DTSTART:20250309T070000
END:DAYLIGHT
BEGIN:STANDARD
TZOFFSETFROM:-0400
TZOFFSETTO:-0500
TZNAME:EST
DTSTART:20251102T060000
END:STANDARD
BEGIN:DAYLIGHT
TZOFFSETFROM:-0500
TZOFFSETTO:-0400
TZNAME:EDT
DTSTART:20260308T070000
END:DAYLIGHT
BEGIN:STANDARD
TZOFFSETFROM:-0400
TZOFFSETTO:-0500
TZNAME:EST
DTSTART:20261101T060000
END:STANDARD
END:VTIMEZONE
BEGIN:VEVENT
DTSTART;TZID=America/New_York:20250812T180000
DTEND;TZID=America/New_York:20250812T190000
DTSTAMP:20260424T085349
CREATED:20250701T185055Z
LAST-MODIFIED:20250701T200034Z
UID:1592-1755021600-1755025200@mcconnellsprings.org
SUMMARY:History To Chew On Series - August 12
DESCRIPTION:Governor Shelby House and Family\nSpeaker: Wesley Francis\n\nThe Shelby family is closely tied to Kentucky’s history\, with Isaac Shelby\, a key figure in the American Revolutionary War\, earning the title “The Hero of Kings Mountain” for his leadership. This fame led to his election as Kentucky’s first governor in 1792. Shelby acquired extensive land through military service and inheritance\, establishing his estate\, Traveller’s Rest\, on the first preemption granted in Kentucky\, reportedly found while he hunted buffalo for Fort Boonesborough.
URL:https://mcconnellsprings.org/event/history-to-chew-on-series-aug12/
LOCATION:McConnell Springs
CATEGORIES:HTCO
ATTACH;FMTTYPE=image/png:https://mcconnellsprings.org/wp-content/uploads/2025/07/August-13.png
END:VEVENT
END:VCALENDAR