BEGIN:VCALENDAR
VERSION:2.0
PRODID:-//Friends of McConnell Springs - ECPv6.15.20//NONSGML v1.0//EN
CALSCALE:GREGORIAN
METHOD:PUBLISH
X-WR-CALNAME:Friends of McConnell Springs
X-ORIGINAL-URL:https://mcconnellsprings.org
X-WR-CALDESC:Events for Friends of McConnell Springs
REFRESH-INTERVAL;VALUE=DURATION:PT1H
X-Robots-Tag:noindex
X-PUBLISHED-TTL:PT1H
BEGIN:VTIMEZONE
TZID:America/New_York
BEGIN:DAYLIGHT
TZOFFSETFROM:-0500
TZOFFSETTO:-0400
TZNAME:EDT
DTSTART:20190310T070000
END:DAYLIGHT
BEGIN:STANDARD
TZOFFSETFROM:-0400
TZOFFSETTO:-0500
TZNAME:EST
DTSTART:20191103T060000
END:STANDARD
BEGIN:DAYLIGHT
TZOFFSETFROM:-0500
TZOFFSETTO:-0400
TZNAME:EDT
DTSTART:20200308T070000
END:DAYLIGHT
BEGIN:STANDARD
TZOFFSETFROM:-0400
TZOFFSETTO:-0500
TZNAME:EST
DTSTART:20201101T060000
END:STANDARD
BEGIN:DAYLIGHT
TZOFFSETFROM:-0500
TZOFFSETTO:-0400
TZNAME:EDT
DTSTART:20210314T070000
END:DAYLIGHT
BEGIN:STANDARD
TZOFFSETFROM:-0400
TZOFFSETTO:-0500
TZNAME:EST
DTSTART:20211107T060000
END:STANDARD
END:VTIMEZONE
BEGIN:VEVENT
DTSTART;TZID=America/New_York:20200310T180000
DTEND;TZID=America/New_York:20200310T200000
DTSTAMP:20260425T120407
CREATED:20191126T150921Z
LAST-MODIFIED:20200308T031500Z
UID:305-1583863200-1583870400@mcconnellsprings.org
SUMMARY:2020 Author Speaker Series - March - Bill Carman
DESCRIPTION:2020 Author Speaker Series\nMarch 10\,  2020\, 6pm in the Educational Center \nContinuing our spring cultural series\, meet and hear local Kentucky authors! \nTuesday\, March 10: Bill Carman \n \nThe authors will be available before and after to sign books and take questions.\nNo need to bring food or drink – refreshments will be provided! \n 
URL:https://mcconnellsprings.org/event/author-speaker-series/
LOCATION:McConnell Springs
ATTACH;FMTTYPE=image/png:https://mcconnellsprings.org/wp-content/uploads/2019/11/carman-fms-as-2020.png
END:VEVENT
END:VCALENDAR